BEGIN:VCALENDAR
VERSION:2.0
PRODID:-//Народни музеј - ECPv4.7.3//NONSGML v1.0//EN
CALSCALE:GREGORIAN
METHOD:PUBLISH
X-WR-CALNAME:Народни музеј
X-ORIGINAL-URL:http://www.narodnimuzej.rs
X-WR-CALDESC:Догађаји за Народни музеј
BEGIN:VEVENT
DTSTART;TZID=Europe/Belgrade:20240224T180000
DTEND;TZID=Europe/Belgrade:20240224T190000
DTSTAMP:20260422T114104
CREATED:20240130T054814Z
LAST-MODIFIED:20240201T114207Z
UID:50965-1708797600-1708801200@www.narodnimuzej.rs
SUMMARY:Ауторско вођење „Између трпезе и софре. Металне посуде од ХIII до ХIХ века у збиркама Народног музеја Србије”
DESCRIPTION:На предметима представљеним у оквиру изложбе „Између трпезе и софре“\, изложене су металне посуде који обухватају широки хронолошки опсег па је самим тим видљиво присуство утицаја из различитих културних средина\, како на посудама насталим у време и на територији српске средњовековне државе\, тако и на подручјима која је у Отоманском царству насељавао српски народ. Изузетна вредност изложених металних посуда\, доприноси\, поред изузетне историјске важности предмета попут чаше цара Душана\, чињеница да су посуде од метала често претапане или крадене тако да се мали број њих у свету сачувао. Металне посуде од ХIII до ХIХ века у збиркама Народног музеја Србије\, представиће виша кустоскиња и једна од ауторки изложбе\, Наташа Церовић\, виша кустоскиња\, у суботу 24. фебруара у 18 часова. \n
URL:http://www.narodnimuzej.rs/dogadjaj/autorsko-vo-ene-izme-u-trpeze-i-sofre-metalne-posude-od-hiii-do-hih-veka-u-zbirkama-narodnog-muzeja-srbije/
LOCATION:Народни музеј Србије
CATEGORIES:Вођења
ATTACH;FMTTYPE=image/jpeg:http://www.narodnimuzej.rs/wp-content/uploads/2024/01/Featured-2-3.jpg
END:VEVENT
END:VCALENDAR