BEGIN:VCALENDAR
VERSION:2.0
PRODID:-//Народни музеј - ECPv4.7.3//NONSGML v1.0//EN
CALSCALE:GREGORIAN
METHOD:PUBLISH
X-WR-CALNAME:Народни музеј
X-ORIGINAL-URL:http://www.narodnimuzej.rs
X-WR-CALDESC:Догађаји за Народни музеј
BEGIN:VEVENT
DTSTART;TZID=Europe/Belgrade:20250125T180000
DTEND;TZID=Europe/Belgrade:20250125T190000
DTSTAMP:20260424T122530
CREATED:20241225T222509Z
LAST-MODIFIED:20241226T132422Z
UID:53642-1737828000-1737831600@www.narodnimuzej.rs
SUMMARY:Ауторско вођење „Јован Кратохвил. Комопозиција 100/24“
DESCRIPTION:Ауторка изложбе\, Лидија Хам Миловановић\, упознаће посетиоце са изложбом и лепотом стваралаштва уметнима. \n
URL:http://www.narodnimuzej.rs/dogadjaj/autorsko-vo-ene-jovan-kratohvil-komopozitsija-100-24-prof-dr-jasmina-chubrilo/
LOCATION:Народни музеј Србије
CATEGORIES:Вођења
ATTACH;FMTTYPE=image/png:http://www.narodnimuzej.rs/wp-content/uploads/2024/12/nm_sajt_dec_feature-20.png
END:VEVENT
END:VCALENDAR