BEGIN:VCALENDAR
VERSION:2.0
PRODID:-//Народни музеј - ECPv4.7.3//NONSGML v1.0//EN
CALSCALE:GREGORIAN
METHOD:PUBLISH
X-WR-CALNAME:Народни музеј
X-ORIGINAL-URL:http://www.narodnimuzej.rs
X-WR-CALDESC:Догађаји за Народни музеј
BEGIN:VEVENT
DTSTART;TZID=Europe/Belgrade:20220730T180000
DTEND;TZID=Europe/Belgrade:20220730T190000
DTSTAMP:20260422T132952
CREATED:20220715T154759Z
LAST-MODIFIED:20220715T154759Z
UID:47920-1659204000-1659207600@www.narodnimuzej.rs
SUMMARY:Ауторско вођење кроз изложбу „Исходиште слике: цртежи Саве Шумановића из збирке Народног музеја Србије“
DESCRIPTION:Ауторка изложбе Исходиште слике: цртежи Саве Шумановића из збирке Народног музеја Србије\, кустоскиња Драгана Љубеновић води вас у узбудљиви свет инспирације Саве Шумановића и његових цртежа и студија насталих као припрема за његова најпознатија дела која имате прилике да видите у музејима широм Србије и његовој галерији у Шиду. На основу припремне скице и финалног дела\, од којих се оба налазе у збирци Народног музеја\, бићете у прилици да видите како је изгледао Шумановићев процес од идеје до реализације\, али и да сазнате све о његовим аспирацијама и стваралачким набојима. \n
URL:http://www.narodnimuzej.rs/dogadjaj/autorsko-vodjenje-kroz-izlozbu-ishodiste-slike-crtezi-save-sumanovica-iz-zbirke-narodnog-muzeja-srbije/
LOCATION:Народни музеј Србије
CATEGORIES:Вођења
END:VEVENT
END:VCALENDAR