BEGIN:VCALENDAR
VERSION:2.0
PRODID:-//Народни музеј - ECPv4.7.3//NONSGML v1.0//EN
CALSCALE:GREGORIAN
METHOD:PUBLISH
X-WR-CALNAME:Народни музеј
X-ORIGINAL-URL:http://www.narodnimuzej.rs
X-WR-CALDESC:Догађаји за Народни музеј
BEGIN:VEVENT
DTSTART;TZID=Europe/Belgrade:20220728T180000
DTEND;TZID=Europe/Belgrade:20220728T190000
DTSTAMP:20260422T151721
CREATED:20220712T134701Z
LAST-MODIFIED:20220712T134701Z
UID:47891-1659031200-1659034800@www.narodnimuzej.rs
SUMMARY:Ауторско вођење „Слика као порука: шта нам говоре репрезентације античких жена“
DESCRIPTION:Од давнина слике су коришћене као погодан медиј за преношење одређених порука. Оваква врста невербалне комуникације од великог је значаја за сачуване репрезентације античких жена и она нам може помоћи у тумачењу порука које су путем одабране слике посматрачу требале бити пренесене. Тумачењем значења ових слика у могућности смо да схватимо каква је била перцепција античке жене у друштву\, било да је она била царица\, обична жена или богиња. Какве су везе и односи између ове три врсте женске појавности посетиоци ће моћи да сазнају кроз интерактивно вођење кроз изложбу. \n
URL:http://www.narodnimuzej.rs/dogadjaj/autorsko-vodjenje-slika-kao-poruka-sta-nam-govore-reprezentacije-antickih-zena/
LOCATION:Народни музеј Србије
CATEGORIES:Вођења
ATTACH;FMTTYPE=image/jpeg:http://www.narodnimuzej.rs/wp-content/uploads/2022/06/Featured-2-1.jpg
END:VEVENT
END:VCALENDAR