BEGIN:VCALENDAR
VERSION:2.0
PRODID:-//Народни музеј - ECPv4.7.3//NONSGML v1.0//EN
CALSCALE:GREGORIAN
METHOD:PUBLISH
X-WR-CALNAME:Народни музеј
X-ORIGINAL-URL:http://www.narodnimuzej.rs
X-WR-CALDESC:Догађаји за Народни музеј
BEGIN:VEVENT
DTSTART;TZID=Europe/Belgrade:20220416T120000
DTEND;TZID=Europe/Belgrade:20220416T130000
DTSTAMP:20260420T161723
CREATED:20190926T141943Z
LAST-MODIFIED:20220330T135724Z
UID:37846-1650110400-1650114000@www.narodnimuzej.rs
SUMMARY:Ауторско вођење „Београдска мумија“
DESCRIPTION:Прича о мумији староегипатског свештеника Несмина коју је 1888. године купио у Луксору Хаџи Павле племенити Риђички из Мокрина и поклонио је Народном музеју део је наших сталних програма. Поред приче о Несмину\, имаћете прилику да чујете причу и о осталим предметима из староегипатске збирке изложеним у сталној поставци: о ковчегу Нефер – Ренепет\, ушабти фигурама\, скарабејима\, привесцима божанстава Тот и Таурет\, уџад оку\, џед стубовима\, и фигуринама Изиде и Хоруса. \nМесто: одмориште на другом спрату Народног музеја \n
URL:http://www.narodnimuzej.rs/dogadjaj/beogradska-mumija-2/
LOCATION:Народни музеј Србије
CATEGORIES:Вођења
ATTACH;FMTTYPE=image/jpeg:http://www.narodnimuzej.rs/wp-content/uploads/2019/09/nm-sp-mumija-featured.jpg
END:VEVENT
END:VCALENDAR