BEGIN:VCALENDAR
VERSION:2.0
PRODID:-//Народни музеј - ECPv4.7.3//NONSGML v1.0//EN
CALSCALE:GREGORIAN
METHOD:PUBLISH
X-WR-CALNAME:Народни музеј
X-ORIGINAL-URL:http://www.narodnimuzej.rs
X-WR-CALDESC:Догађаји за Народни музеј
BEGIN:VEVENT
DTSTART;TZID=Europe/Belgrade:20230722T120000
DTEND;TZID=Europe/Belgrade:20230722T133000
DTSTAMP:20260419T140554
CREATED:20230628T183652Z
LAST-MODIFIED:20230703T143730Z
UID:49595-1690027200-1690032600@www.narodnimuzej.rs
SUMMARY:Музеј у срцу града: Јога у Музеју Вука и Доситеја
DESCRIPTION:У хладовини дворишта Музеја Вука и Доситеја 1. јула од 12.00 до 13.30 можете да уживате у јоги. Активности воде инструктори из студија My Yoga Journey\, а обавезно је пријављивање учешћа на мејл адресе danica.glisic1@gmail.com или jogasamilosem@gmail.com. Програм се изводи у оквиру манифестације Музеј у срцу града. \n
URL:http://www.narodnimuzej.rs/dogadjaj/joga-u-muzeju-vuka-i-dositeja-2/
LOCATION:Музеј Вука и Доситеја
CATEGORIES:Остало
ATTACH;FMTTYPE=image/jpeg:http://www.narodnimuzej.rs/wp-content/uploads/2023/06/Featured-3-1.jpg
END:VEVENT
END:VCALENDAR