BEGIN:VCALENDAR
VERSION:2.0
PRODID:-//Народни музеј - ECPv4.7.3//NONSGML v1.0//EN
CALSCALE:GREGORIAN
METHOD:PUBLISH
X-WR-CALNAME:Народни музеј
X-ORIGINAL-URL:http://www.narodnimuzej.rs
X-WR-CALDESC:Догађаји за Народни музеј
BEGIN:VEVENT
DTSTART;TZID=Europe/Belgrade:20230729T120000
DTEND;TZID=Europe/Belgrade:20230729T133000
DTSTAMP:20260419T122009
CREATED:20230628T183801Z
LAST-MODIFIED:20230703T144245Z
UID:49597-1690632000-1690637400@www.narodnimuzej.rs
SUMMARY:Музеј у срцу града: Јога у Музеју Вука и Доситеја
DESCRIPTION:Јога у Музеју Вука и ДоситејаУ хладовини дворишта Музеја Вука и Доситеја 1. јула од 12.00 до 13.30 можете да уживате у јоги. Активности воде инструктори из студија My Yoga Journey\, а обавезно је пријављивање учешћа на мејл адресе danica.glisic1@gmail.com или jogasamilosem@gmail.com. Програм се изводи у оквиру манифестације Музеј у срцу града. \n
URL:http://www.narodnimuzej.rs/dogadjaj/joga-u-muzeju-vuka-i-dositeja-3/
LOCATION:Музеј Вука и Доситеја
CATEGORIES:Остало
ATTACH;FMTTYPE=image/jpeg:http://www.narodnimuzej.rs/wp-content/uploads/2023/06/Featured-3-1.jpg
END:VEVENT
END:VCALENDAR