BEGIN:VCALENDAR
VERSION:2.0
PRODID:-//Народни музеј - ECPv4.7.3//NONSGML v1.0//EN
CALSCALE:GREGORIAN
METHOD:PUBLISH
X-WR-CALNAME:Народни музеј
X-ORIGINAL-URL:http://www.narodnimuzej.rs
X-WR-CALDESC:Догађаји за Народни музеј
BEGIN:VEVENT
DTSTART;TZID=Europe/Belgrade:20220408T100000
DTEND;TZID=Europe/Belgrade:20220408T160000
DTSTAMP:20260422T163853
CREATED:20220330T151210Z
LAST-MODIFIED:20220401T145555Z
UID:47305-1649412000-1649433600@www.narodnimuzej.rs
SUMMARY:Манифестација „Тржница идеја“
DESCRIPTION:Музеј града Београда и Народни музеј у Београду вас са великим задовољством позивају да посетите седму „Тржницу идеја” која ће бити одржана у Aтријуму Народног музеја. Циљ манифестације је континуирана сарадња музеја и школа и препознавање баштине као ресурса\, а установа културе као места за учење. Представиће се 23 установе културе и организације које се баве едукацијом деце и младих. Намењена првенствено просветним радницима\, манифестација „Тржница идеја” отворена је и за индивидуалне посете\, а понуда програма односи се на узраст од 3 до 18 година. Улаз је слободан. \n
URL:http://www.narodnimuzej.rs/dogadjaj/manifestacija-trznica-ideja/
LOCATION:Народни музеј Србије
CATEGORIES:Манифестације
ATTACH;FMTTYPE=image/jpeg:http://www.narodnimuzej.rs/wp-content/uploads/2022/03/Featured-23-1.jpg
END:VEVENT
END:VCALENDAR