BEGIN:VCALENDAR
VERSION:2.0
PRODID:-//Народни музеј - ECPv4.7.3//NONSGML v1.0//EN
CALSCALE:GREGORIAN
METHOD:PUBLISH
X-WR-CALNAME:Народни музеј
X-ORIGINAL-URL:http://www.narodnimuzej.rs
X-WR-CALDESC:Догађаји за Народни музеј
BEGIN:VEVENT
DTSTART;VALUE=DATE:20220702
DTEND;VALUE=DATE:20220703
DTSTAMP:20260422T145220
CREATED:20220627T143100Z
LAST-MODIFIED:20220630T142407Z
UID:47805-1656720000-1656806399@www.narodnimuzej.rs
SUMMARY:Програм „Музеј у срцу града“ - Музеј Вука и Доситеја
DESCRIPTION:1. 07. у 11 ч – Музеј за баке\, деке и унуке \nРАДИОНИЦА „Игре некад и сад“ \nКоје су то игре којих су се играле наше баке и деке\, а како се ми данас играмо? Да ли у играмо развијамо и неке вештине и стичемо нека нова знања? Дођите да се заједно подсетимо како се све може играти\, а да то не буде уз помоћ телефона или компјутера. \n3. 07. у 12 ч – представа Досије Доситеј \nРезервација бесплатних карата на мејл адресу: vukidositej@narodnimuzej.rs\, 20 слободних места \n7. 07. у 18 ч – предавање: Развој српског књижевног језика кроз векове\n \n\nМилица Миланков на тему „Развој српског књижевног језика кроз векове“ разговараће са посетиоцима о разликама у нашем језику које су настајале у времену од Ћирила и Методија преко српске редакције славеносрпског језика до Захарија Орфелина\, Доситеја Обрадовића и Вука караџића. \n\n8. 07. у 11 ч – Музеј за баке\, деке и унуке \nРАДИОНИЦА „Необична славеносрпска слова“ \nСлова формирају речи без којих не би могли да изразимо смисао реченице. Исписујемо необичне облике славеносрпских двогласних слова и покушавамо да их искористимо као почетна слова из којих ћемо извести знане и незнане речи. Незнане речи ћемо пронаћи у речнику\, разумети њихово значење и покушати да их искористимо за кратку реченицу. Учесници радионице се на овај начин упознају са новим речима на необичан начин и словима које је Вук Караџић изоставио из азбуке руководећи се принципом да свако слово има само један глас. \n10. 07. у 12 ч – представа Мој отац Вук Караџић  \nРезервација бесплатних карата на мејл адресу: vukidositej@narodnimuzej.rs\, 30 слободних места \n12. 07. – 10.00 – 13 ч – Pet friendly музеј  \n\nТоком летњих дана јула у башти Музеја Вука и Доситеја ћемо са задовољством угостити ваше кућне љубимце. Док разгледате сталну поставку Музеја\, побринућемо се да ваши љубимци безбрижно\, уз играчку\, посластицу и чинију воде\, сачекају у хладовини баште Музеја Вука и Доситеја. \n\n15. 07. у 11 ч – Музеј за баке\, деке и унуке \nРАДИОНИЦА „Бајке некад и сад“ \nКоје су то народне бајке које су се причале деци у време када је живео Вук Караџић? Да ли су неке од њих инспирисале и светске писце и стигле и до нашег времена у виду цртаних филмова? Заједно ћемо дати одговоре на ова питања\, а затим ћемо измислити и нацртати своју бајку. \n21. 07. у 18 ч – предавање: Хероји Дорћола \n\n„Хероји Дорћола“ је назив за приче о носиоцима назива дорћолских улица. Разговараћемо о знаменитим личностима које су обележиле почетак 19. века а повезане су са старим делом Београда у којем је смештен и Музеј Вука и Доситеја. \n\n22. 07. у 11 ч – Музеј за баке\, деке и унуке \nРАДИОНИЦА „Шта? Где? Када? Како?“ \nАсоцијацијом на поједине предмете из поставке се открива о којим експонатима је реч. Свако од учесника радионице записује податке о предмету\, портрету или скулптури. Подаци које записују се односе на приказ\, када је и како настао\, материјал израде\, боју или сврху употребе. Са тим подацима настоје да открију експонате у поставци и фотографишу. Потом откривени предмет укратко представе. \n23. 07. у 18 ч – наступ фрулаша Небојше Брдалића \n28.07. у 18 ч – предавање: Разговор о Николи Доксату и урбанизацији Дорћола \n\nУ четвртак\, 28. јула\, у 18 часова Жељко Вук ће са посетиоцима говорити о Дорћолу као урбаном\, војном и трговачком центру. \n\n29. 07. у 11 ч – Музеј за баке\, деке и унуке \nРАДИОНИЦА „Бајка о Вуку и Доситеју“ \nЛето је време за нова искуства која подстичу машту; како бисмо Вука и Доситеја сместили у данашње време и како бисмо могли њихове животе да сместимо у бајку\, дођите да откријемо заједно. \n
URL:http://www.narodnimuzej.rs/dogadjaj/muzej-u-srcu-grada-muzej-vuka-i-dositeja/
LOCATION:Музеј Вука и Доситеја
CATEGORIES:Музика,Предавања,Представе,Радионица
ATTACH;FMTTYPE=image/jpeg:http://www.narodnimuzej.rs/wp-content/uploads/2022/06/Featured-1.jpg
END:VEVENT
END:VCALENDAR