BEGIN:VCALENDAR
VERSION:2.0
PRODID:-//Народни музеј - ECPv4.7.3//NONSGML v1.0//EN
CALSCALE:GREGORIAN
METHOD:PUBLISH
X-WR-CALNAME:Народни музеј
X-ORIGINAL-URL:http://www.narodnimuzej.rs
X-WR-CALDESC:Догађаји за Народни музеј
BEGIN:VEVENT
DTSTART;TZID=Europe/Belgrade:20220812T110000
DTEND;TZID=Europe/Belgrade:20220812T133000
DTSTAMP:20260422T145342
CREATED:20220729T130222Z
LAST-MODIFIED:20220729T152619Z
UID:48004-1660302000-1660311000@www.narodnimuzej.rs
SUMMARY:Музеј за баке\, деке и унуке: Ја у 19. веку
DESCRIPTION:Током шетње кроз поставку Музеја Вука и Доситеја посебну пажњу ћемо обратити на портрете и предмете које су Вук и чланови његове породице свакодневно користили. На крају ћемо цртати аутопортрете са предметима из музеја који су нам се највише допали. Радионица је намењена деци предшколског и школског узраста. Није потребно пријављивање. \n
URL:http://www.narodnimuzej.rs/dogadjaj/muzej-za-bake-deke-i-unuke-ja-u-19-veku/
LOCATION:Музеј Вука и Доситеја
CATEGORIES:Радионица
ATTACH;FMTTYPE=image/jpeg:http://www.narodnimuzej.rs/wp-content/uploads/2021/07/Featured-1-5.jpg
END:VEVENT
END:VCALENDAR