BEGIN:VCALENDAR
VERSION:2.0
PRODID:-//Народни музеј - ECPv4.7.3//NONSGML v1.0//EN
CALSCALE:GREGORIAN
METHOD:PUBLISH
X-WR-CALNAME:Народни музеј
X-ORIGINAL-URL:http://www.narodnimuzej.rs
X-WR-CALDESC:Догађаји за Народни музеј
BEGIN:VEVENT
DTSTART;TZID=Europe/Belgrade:20230628T180000
DTEND;TZID=Europe/Belgrade:20230628T190000
DTSTAMP:20260419T190312
CREATED:20230628T182406Z
LAST-MODIFIED:20230628T182406Z
UID:49589-1687975200-1687978800@www.narodnimuzej.rs
SUMMARY:Музејска монодрама „Ветар и заставе“
DESCRIPTION:Музејска монодрама „Ветар и заставе“ посвећена Танаску Рајићу\, устанику из времена друге половине 18. и прве половине 19. века\, одржаће се 28. јуна у 18 часова у дворишту Музеја Вука и Доситеја. \n
URL:http://www.narodnimuzej.rs/dogadjaj/muzejska-monodrama-vetar-i-zastave/
LOCATION:Музеј Вука и Доситеја
CATEGORIES:Представе
END:VEVENT
END:VCALENDAR