BEGIN:VCALENDAR
VERSION:2.0
PRODID:-//Народни музеј - ECPv4.7.3//NONSGML v1.0//EN
CALSCALE:GREGORIAN
METHOD:PUBLISH
X-WR-CALNAME:Народни музеј
X-ORIGINAL-URL:http://www.narodnimuzej.rs
X-WR-CALDESC:Догађаји за Народни музеј
BEGIN:VEVENT
DTSTART;TZID=Europe/Belgrade:20221215T190000
DTEND;TZID=Europe/Belgrade:20221215T200000
DTSTAMP:20260419T114924
CREATED:20221122T170803Z
LAST-MODIFIED:20221212T103720Z
UID:48470-1671130800-1671134400@www.narodnimuzej.rs
SUMMARY:Отварање изложбе  „Лучоноша једне епохе. БЕТА ВУКАНОВИЋ (1872 – 1972)“
DESCRIPTION:Отварање изложбе \nЛУЧОНОША ЈЕДНЕ ЕПОХЕ.\nБЕТА ВУКАНОВИЋ (1872 – 1972) \nКабинет графике Народног музеја Србије\nЧетвртак\, 15. децембар 2022\, у 19 часова \n  \nУ Кабинету графике Народног музеја Србије у четвртак\, 15. децембра\, са почетком у 19 часова\, отвара се изложба ЛУЧОНОША ЈЕДНЕ ЕПОХЕ. БЕТА ВУКАНОВИЋ (1872 – 1972). У оквиру  тематске изложбе посвећене стопедесетогодишњици рођења Бете Вукановић биће изложена одабрана уља на платну из Збирке југословенског сликарства 20. века\, заједно са неколико радова на папиру из Збирке цртежа и графика југословенских аутора 20. века. Значајна дела Бете Вукановић\, која ћемо имати прилику да видимо\, увек су била незаобилазан део пленеристичких и импресионистичких изложби\, приређиваним различитим поводима. \nБаварка по пореклу\, а Српкиња по животу и делу\, Бета Вукановић (рођена Babett Bachmayer) је свој дуги живот провела сликајући. Сликарство Бете Вукановић је по мотивима разнородно\, а цвеће\, мртве природе\, ентеријери\, портрети и студије се одликују реалистичко-импресионистичким стилом\, јарким колоритом и слободним гестом. \nОд тренутка када је са двадесет пет година из Минхена\, преко Париза\, дошла у нашу престоницу\, била је активно укључена у културни живот Краљевине Југославије. Претходно сликарско образовање стекла је у атељеима Карла Мара и Лудвига Хетериха\, потом у атељеу Антона Ажбеа и париској академији Делеклиз. По доласку у Београд\, а у тренутку када се Прва српска цртачка и сликарска школа Кирила Кутлика полако гасила\, Бета и њен супруг Риста Вукановић преузели су школу (1900)\, уносећи новине у начин наставе. Бета Вукановић је била један од оснивача Друштва српских уметника Лада (1904)\, на чијим је изложбама редовно учествовала до краја живота\, носећи почасну титулу доживотног председника Друштва. \nО Бети Вукановић и њеном стваралаштву више ћемо сазнати захваљујући изложби Лучоноша једне епохе аутора Петра Петровића\, музејског саветника Народног музеја Србије. \nИзложбу ће сви заинтересовани посетиоци моћи да посете све до 28. фебруара 2023. године. \n
URL:http://www.narodnimuzej.rs/dogadjaj/otvaranje-izlozbe-beta-vukanovic-1872-1972-luconosa-jedne-epohe-povodom-stopedesetogodisnjice-rodjenja/
LOCATION:Народни музеј Србије
CATEGORIES:Вођења,Изложбе
ATTACH;FMTTYPE=image/jpeg:http://www.narodnimuzej.rs/wp-content/uploads/2022/12/Featured-10.jpg
END:VEVENT
END:VCALENDAR