BEGIN:VCALENDAR
VERSION:2.0
PRODID:-//Народни музеј - ECPv4.7.3//NONSGML v1.0//EN
CALSCALE:GREGORIAN
METHOD:PUBLISH
X-WR-CALNAME:Народни музеј
X-ORIGINAL-URL:http://www.narodnimuzej.rs
X-WR-CALDESC:Догађаји за Народни музеј
BEGIN:VEVENT
DTSTART;TZID=Europe/Belgrade:20241005T130000
DTEND;TZID=Europe/Belgrade:20241005T140000
DTSTAMP:20260422T164012
CREATED:20240927T150827Z
LAST-MODIFIED:20240929T151703Z
UID:52846-1728133200-1728136800@www.narodnimuzej.rs
SUMMARY:Показна радионица за наставнике: Шта ми то радимо у Музеју?
DESCRIPTION:У склопу програма обележавања Светског дана наставника\, ова радионица је намењена управо њима\, као нашим блиским сарадницима и консултантима\, као онима који заједно са нама раде на заједничком циљу – развијању креативности наше деце\, њиховом обазовању и усмеравању ка неговању животних вредности. Током ове радионице укратко ћемо демонстрирати наставницима шта радимо на нашим радионицама са децом\, дружићемо се и слушати сугестије\, како бисмо у будућности заједнички осмислили и деци понудили што садржајније и квалитетније програме. \n
URL:http://www.narodnimuzej.rs/dogadjaj/pokazna-radionitsa-za-nastavnike-shta-mi-to-radimo-u-muzeju/
LOCATION:Народни музеј Србије
CATEGORIES:Радионица
ATTACH;FMTTYPE=image/png:http://www.narodnimuzej.rs/wp-content/uploads/2024/09/Your-paragraph-text.png
END:VEVENT
END:VCALENDAR