BEGIN:VCALENDAR
VERSION:2.0
PRODID:-//Народни музеј - ECPv4.7.3//NONSGML v1.0//EN
CALSCALE:GREGORIAN
METHOD:PUBLISH
X-WR-CALNAME:Народни музеј
X-ORIGINAL-URL:http://www.narodnimuzej.rs
X-WR-CALDESC:Догађаји за Народни музеј
BEGIN:VEVENT
DTSTART;TZID=Europe/Belgrade:20220407T180000
DTEND;TZID=Europe/Belgrade:20220407T190000
DTSTAMP:20260422T163942
CREATED:20220329T102621Z
LAST-MODIFIED:20220330T133736Z
UID:47187-1649354400-1649358000@www.narodnimuzej.rs
SUMMARY:Предавање „Краљица Драга Обреновић и случај празне колевке“
DESCRIPTION:У склопу пратећег програма изложбе Како памтимо владаре? Представе Обреновића из Кабинета графике Народног музеја у Београду проф. др Игор Борозан ће одржати предавање о краљици Драгој Обреновић као несумњиво једној од најконтроверзнијих личности из новије српске историје. Године 1901. краљица је обзнанила трудноћу. У ту сврху је из целе Србије пристигао велики број дарова за будућу бебу\, а својом лепотом посебно се истакла колевка коју су даривали грађани Ниша. Ово сложено уметничко дело\, данас изгубљено\, овековечио је дворски фотограф Милан Јовановић. Након обзнане лажне трудноће краљице Драге\, колевка је остала као визуелни доказ једне несрећене судбине. \nМесто: Атријум Народног музеја \n
URL:http://www.narodnimuzej.rs/dogadjaj/predavane-kralitsa-draga-obrenovi-i-sluchaj-prazne-kolevke/
LOCATION:Народни музеј Србије
CATEGORIES:Предавања
ATTACH;FMTTYPE=image/jpeg:http://www.narodnimuzej.rs/wp-content/uploads/2022/03/Featured-5.jpg
END:VEVENT
END:VCALENDAR