BEGIN:VCALENDAR
VERSION:2.0
PRODID:-//Народни музеј - ECPv4.7.3//NONSGML v1.0//EN
CALSCALE:GREGORIAN
METHOD:PUBLISH
X-WR-CALNAME:Народни музеј
X-ORIGINAL-URL:http://www.narodnimuzej.rs
X-WR-CALDESC:Догађаји за Народни музеј
BEGIN:VEVENT
DTSTART;TZID=Europe/Belgrade:20220708T110000
DTEND;TZID=Europe/Belgrade:20220708T130000
DTSTAMP:20260422T180122
CREATED:20220629T122025Z
LAST-MODIFIED:20220630T140240Z
UID:47847-1657278000-1657285200@www.narodnimuzej.rs
SUMMARY:Програм „Музеј у срцу града“ – Музеј за баке\, деке и унуке
DESCRIPTION:Музеј за баке деке и унуке у оквиру манифестације Музеј у срцу града \nРАДИОНИЦА „Необична славеносрпска слова“ \nСлова формирају речи без којих не би могли да изразимо смисао реченице. Исписујемо необичне облике славеносрпских двогласних слова и покушавамо да их искористимо као почетна слова из којих ћемо извести знане и незнане речи. Незнане речи ћемо пронаћи у речнику\, разумети њихово значење и покушати да их искористимо за кратку реченицу. Учесници радионице се на овај начин упознају са новим речима на необичан начин и словима које је Вук Караџић изоставио из азбуке руководећи се принципом да свако слово има само један глас. \n
URL:http://www.narodnimuzej.rs/dogadjaj/program-muzej-u-srtsu-grada-muzej-za-bake-deke-i-unuke-2/
LOCATION:Музеј Вука и Доситеја
CATEGORIES:Вођења,Радионица
ATTACH;FMTTYPE=image/jpeg:http://www.narodnimuzej.rs/wp-content/uploads/2022/06/Featured-1.jpg
END:VEVENT
END:VCALENDAR