BEGIN:VCALENDAR
VERSION:2.0
PRODID:-//Народни музеј - ECPv4.7.3//NONSGML v1.0//EN
CALSCALE:GREGORIAN
METHOD:PUBLISH
X-WR-CALNAME:Народни музеј
X-ORIGINAL-URL:http://www.narodnimuzej.rs
X-WR-CALDESC:Догађаји за Народни музеј
BEGIN:VEVENT
DTSTART;TZID=Europe/Belgrade:20220719T100000
DTEND;TZID=Europe/Belgrade:20220719T130000
DTSTAMP:20260422T162650
CREATED:20220630T135446Z
LAST-MODIFIED:20220630T135446Z
UID:47871-1658224800-1658235600@www.narodnimuzej.rs
SUMMARY:Програм „Музеј у срцу града“ –  Pet friendly музеј
DESCRIPTION:Током летњих дана јула у башти Музеја Вука и Доситеја ћемо са задовољством угостити ваше кућне љубимце. Док разгледате сталну поставку Музеја\, побринућемо се да ваши љубимци безбрижно\, уз играчку\, посластицу и чинију воде\, сачекају у хладовини баште Музеја Вука и Доситеја. \n
URL:http://www.narodnimuzej.rs/dogadjaj/program-muzej-u-srtsu-grada-pet-friendly-muzej-2/
LOCATION:Музеј Вука и Доситеја
CATEGORIES:Вођења,Изложбе
ATTACH;FMTTYPE=image/jpeg:http://www.narodnimuzej.rs/wp-content/uploads/2022/06/Featured-1.jpg
END:VEVENT
END:VCALENDAR