BEGIN:VCALENDAR
VERSION:2.0
PRODID:-//Народни музеј - ECPv4.7.3//NONSGML v1.0//EN
CALSCALE:GREGORIAN
METHOD:PUBLISH
X-WR-CALNAME:Народни музеј
X-ORIGINAL-URL:http://www.narodnimuzej.rs
X-WR-CALDESC:Догађаји за Народни музеј
BEGIN:VEVENT
DTSTART;TZID=Europe/Belgrade:20220721T180000
DTEND;TZID=Europe/Belgrade:20220721T190000
DTSTAMP:20260422T194137
CREATED:20220629T122642Z
LAST-MODIFIED:20220630T135132Z
UID:47853-1658426400-1658430000@www.narodnimuzej.rs
SUMMARY:Програм „Музеј у срцу града“ –  предавање „Хероји Дорћола“
DESCRIPTION:„Хероји Дорћола“ је назив за приче о носиоцима назива дорћолских улица. Разговараћемо о знаменитим личностима које су обележиле почетак 19. века а повезане су са старим делом Београда у којем је смештен и Музеј Вука и Доситеја. \n
URL:http://www.narodnimuzej.rs/dogadjaj/program-muzej-u-srtsu-grada-ulitse-gorneg-dor-ola/
LOCATION:Музеј Вука и Доситеја
CATEGORIES:Предавања
ATTACH;FMTTYPE=image/jpeg:http://www.narodnimuzej.rs/wp-content/uploads/2022/06/Featured-1.jpg
END:VEVENT
END:VCALENDAR