BEGIN:VCALENDAR
VERSION:2.0
PRODID:-//Народни музеј - ECPv4.7.3//NONSGML v1.0//EN
CALSCALE:GREGORIAN
METHOD:PUBLISH
X-WR-CALNAME:Народни музеј
X-ORIGINAL-URL:http://www.narodnimuzej.rs
X-WR-CALDESC:Догађаји за Народни музеј
BEGIN:VEVENT
DTSTART;TZID=Europe/Belgrade:20251225T180000
DTEND;TZID=Europe/Belgrade:20251225T190000
DTSTAMP:20260421T123125
CREATED:20251129T160522Z
LAST-MODIFIED:20251129T160522Z
UID:56526-1766685600-1766689200@www.narodnimuzej.rs
SUMMARY:Промоција монографије: „70 година Књижевне награде Невен "
DESCRIPTION:Књижевна награда Невен основана је 1955. године и сматра се најзначајнијом наградом за стваралаштво за децу у Србији и региону. Носиоци ове награде су Пријатељи деце Србије. \nУчесници: аутори монографије: др Зорана Опачић\, др Јелена Панић Мараш\, др Владимир Вукомановић Растегорац и Божидар Димић. Модераторка: Ива Ераковић \n
URL:http://www.narodnimuzej.rs/dogadjaj/promotsija-monografije-70-godina-knizhevne-nagrade-neven/
LOCATION:Народни музеј Србије
CATEGORIES:Остало
END:VEVENT
END:VCALENDAR