BEGIN:VCALENDAR
VERSION:2.0
PRODID:-//Народни музеј - ECPv4.7.3//NONSGML v1.0//EN
CALSCALE:GREGORIAN
METHOD:PUBLISH
X-WR-CALNAME:Народни музеј
X-ORIGINAL-URL:http://www.narodnimuzej.rs
X-WR-CALDESC:Догађаји за Народни музеј
BEGIN:VEVENT
DTSTART;TZID=Europe/Belgrade:20220709T130000
DTEND;TZID=Europe/Belgrade:20220709T143000
DTSTAMP:20260422T180228
CREATED:20220627T134926Z
LAST-MODIFIED:20220627T134926Z
UID:47754-1657371600-1657377000@www.narodnimuzej.rs
SUMMARY:Радионица за децу „Антички накит“
DESCRIPTION:Накит је важан део сваке културе јер представља уметничку форму која је коришћена не само као украс већ и за изражавање статуса\, богатства и моћи носиоца. Његова значења су се мењала током различитих периода историје друштва\, као и материјали од којих је прављен\, а технике израде су усавршаване и развијане. Током радионице најмлађи учесници ће имати прилику да на изложби Femina Balcanica погледају најинтересантније комаде античког накита. Пријављивање учесника узраста од 5 до 7 година је обавезно на мејл адресу radionice@narodnimuzej.rs. \nУзраст: 5 – 7 година \n
URL:http://www.narodnimuzej.rs/dogadjaj/radionica-za-decu-anticki-nakit-2/
LOCATION:Народни музеј Србије
CATEGORIES:Радионица
ATTACH;FMTTYPE=image/jpeg:http://www.narodnimuzej.rs/wp-content/uploads/2022/06/Featured-2-1.jpg
END:VEVENT
END:VCALENDAR