BEGIN:VCALENDAR
VERSION:2.0
PRODID:-//Народни музеј - ECPv4.7.3//NONSGML v1.0//EN
CALSCALE:GREGORIAN
METHOD:PUBLISH
X-WR-CALNAME:Народни музеј
X-ORIGINAL-URL:http://www.narodnimuzej.rs
X-WR-CALDESC:Догађаји за Народни музеј
BEGIN:VEVENT
DTSTART;TZID=Europe/Belgrade:20220416T130000
DTEND;TZID=Europe/Belgrade:20220416T150000
DTSTAMP:20260420T144639
CREATED:20220329T105113Z
LAST-MODIFIED:20220330T140855Z
UID:47197-1650114000-1650121200@www.narodnimuzej.rs
SUMMARY:Радионица за децу „Ролплеј: Крунисање цара Душана“
DESCRIPTION:Како су крунисање првог српског цара доживели великаши\, дубровачки трговци и дворске даме? На радионици ћемо се кроз играње улога \,\,преселити“ у 1346. годину и оживети личности из наше историје и народних песама. \nЗбог ограниченог броја учесника\, пријаве су обавезне на мејл адресу: radionice@narodnimuzej.rs \nМесто: одмориште на првом спрату Народног музеја \nУзраст: 10-14 година \n
URL:http://www.narodnimuzej.rs/dogadjaj/radionica-za-decu-rolplej-krunisanje-cara-dusana/
LOCATION:Народни музеј Србије
CATEGORIES:Радионица
ATTACH;FMTTYPE=image/jpeg:http://www.narodnimuzej.rs/wp-content/uploads/2022/03/Featured-14.jpg
END:VEVENT
END:VCALENDAR