BEGIN:VCALENDAR
VERSION:2.0
PRODID:-//Народни музеј - ECPv4.7.3//NONSGML v1.0//EN
CALSCALE:GREGORIAN
METHOD:PUBLISH
X-WR-CALNAME:Народни музеј
X-ORIGINAL-URL:http://www.narodnimuzej.rs
X-WR-CALDESC:Догађаји за Народни музеј
BEGIN:VEVENT
DTSTART;TZID=Europe/Belgrade:20220730T130000
DTEND;TZID=Europe/Belgrade:20220730T150000
DTSTAMP:20260422T145553
CREATED:20220627T153554Z
LAST-MODIFIED:20220628T102039Z
UID:47817-1659186000-1659193200@www.narodnimuzej.rs
SUMMARY:Радионица за младе „Femina“
DESCRIPTION:Шта нам предмети са сталне поставке Народног музеја могу рећи о положају и улози жена у прошлости? Атина – богиња ратница и богиња мудрости\, рођена је из Зевсове главе и једно је од најутицајнијих и најпознатијих божанстава. Весталке су биле свештенице богиње Весте; чуварке вечне ватре и међу најутицајнијим женама старог Рима. Шта им је било заједничко? На крају шта можемо сазнати из аутопортрета чувених сликарки – Катарине Ивановић\, Надежде Петровић и Милене Павловић Барили? Пријављивање учесника узраста од 14 до 18 година је обавезно на мејл адресу radionice@narodnimuzej.rs. \nУзраст: 14 – 18 година \n
URL:http://www.narodnimuzej.rs/dogadjaj/radionica-za-mlade-femina/
LOCATION:Народни музеј Србије
CATEGORIES:Радионица
ATTACH;FMTTYPE=image/jpeg:http://www.narodnimuzej.rs/wp-content/uploads/2022/06/Featured-3-1.jpg
END:VEVENT
END:VCALENDAR