BEGIN:VCALENDAR
VERSION:2.0
PRODID:-//Народни музеј - ECPv4.7.3//NONSGML v1.0//EN
CALSCALE:GREGORIAN
METHOD:PUBLISH
X-WR-CALNAME:Народни музеј
X-ORIGINAL-URL:http://www.narodnimuzej.rs
X-WR-CALDESC:Догађаји за Народни музеј
BEGIN:VEVENT
DTSTART;TZID=Europe/Belgrade:20241123T130000
DTEND;TZID=Europe/Belgrade:20241123T143000
DTSTAMP:20260423T144805
CREATED:20241029T140305Z
LAST-MODIFIED:20241030T051627Z
UID:53099-1732366800-1732372200@www.narodnimuzej.rs
SUMMARY:Радионица „Модна авантура: обуци Вукову породицу“
DESCRIPTION:„Какву је то капу Вук стално носио? Зашто његов унук Јанко као мали носи хаљиницу? Да ли то Ана Краус носи вео као млада на венчању? Како је Мина могла да хода у тако пуфнастој хаљини?ˮ – најчешћа су питања која нам деца постављају када дођу у Музеј. Посматрајући породичне фотографије Вука Караџића\, деца ће добити одговоре на оваква и бројна друга питања\, а потом заједно направити силуете у природном облику\, обући их у духу 19. века и скројити неке модне детаље. Пријављивање на мејл адресу: radionice@narodnimuzej.rs. \n
URL:http://www.narodnimuzej.rs/dogadjaj/radionitsa-modna-avantura-obutsi-vukovu-poroditsu/
LOCATION:Музеј Вука и Доситеја
CATEGORIES:Радионица
ATTACH;FMTTYPE=image/png:http://www.narodnimuzej.rs/wp-content/uploads/2024/10/nm_sajt_nov_feature13.png
END:VEVENT
END:VCALENDAR