BEGIN:VCALENDAR
VERSION:2.0
PRODID:-//Народни музеј - ECPv4.7.3//NONSGML v1.0//EN
CALSCALE:GREGORIAN
METHOD:PUBLISH
X-WR-CALNAME:Народни музеј
X-ORIGINAL-URL:http://www.narodnimuzej.rs
X-WR-CALDESC:Догађаји за Народни музеј
BEGIN:VEVENT
DTSTART;TZID=Europe/Belgrade:20220326T130000
DTEND;TZID=Europe/Belgrade:20220326T143000
DTSTAMP:20260422T150255
CREATED:20220225T150222Z
LAST-MODIFIED:20220301T130025Z
UID:47063-1648299600-1648305000@www.narodnimuzej.rs
SUMMARY:Радионица за одрасле „Инжењери душе“
DESCRIPTION:Радионица је део пратећег програма изложбе „Зенитистима целога света. Из заоставштине Љубомира Мицића у Народном музеју у Београду“. Током овог програма одрасла публика имаће прилику да кроз сликарство истраже конструктивизам и буду инжењери своје душе. Пријављивање је обавезно на мејл адресу: radionice@narodnimuzej.rs. \nМесто: Велика галерија на другом спрату. \n
URL:http://www.narodnimuzej.rs/dogadjaj/radionitsa-za-odrasle-inzheneri-dushe/
LOCATION:Народни музеј Србије
CATEGORIES:Радионица
ATTACH;FMTTYPE=image/jpeg:http://www.narodnimuzej.rs/wp-content/uploads/2022/02/Featured-08.jpg
END:VEVENT
END:VCALENDAR