BEGIN:VCALENDAR
VERSION:2.0
PRODID:-//Народни музеј - ECPv4.7.3//NONSGML v1.0//EN
CALSCALE:GREGORIAN
METHOD:PUBLISH
X-WR-CALNAME:Народни музеј
X-ORIGINAL-URL:http://www.narodnimuzej.rs
X-WR-CALDESC:Догађаји за Народни музеј
BEGIN:VEVENT
DTSTART;TZID=Europe/Belgrade:20241017T180000
DTEND;TZID=Europe/Belgrade:20241017T190000
DTSTAMP:20260422T151343
CREATED:20240925T145321Z
LAST-MODIFIED:20240927T154629Z
UID:52799-1729188000-1729191600@www.narodnimuzej.rs
SUMMARY:Разговори са публиком „Мозаик - од подне декорације до музејског предмета“
DESCRIPTION:Разговор са публиком о мозаицима у антици\, конзервацији мозаика и изазовима презентовања мозаика у музејима. Биће речи о техници израде мозаика на примеру мозаика стојничке грађевине\, животу мозаика као музејског предмета укључујући два процеса конзервације која су прошли од момента открића пре 66 година до данас. Позивамо све заинтересоване да нам се придруже 17. октобра од 18 часова у Великој сали Народног музеја. \n
URL:http://www.narodnimuzej.rs/dogadjaj/razgovori-sa-publikom-mozaik-od-podne-dekoratsije-do-muzejskog-predmeta/
LOCATION:Народни музеј Србије
ATTACH;FMTTYPE=image/png:http://www.narodnimuzej.rs/wp-content/uploads/2024/09/nm_sajt_sept_feature-new5.png
END:VEVENT
END:VCALENDAR