BEGIN:VCALENDAR
VERSION:2.0
PRODID:-//Народни музеј - ECPv4.7.3//NONSGML v1.0//EN
CALSCALE:GREGORIAN
METHOD:PUBLISH
X-WR-CALNAME:Народни музеј
X-ORIGINAL-URL:http://www.narodnimuzej.rs
X-WR-CALDESC:Догађаји за Народни музеј
BEGIN:VEVENT
DTSTART;TZID=Europe/Belgrade:20240917T170000
DTEND;TZID=Europe/Belgrade:20240917T180000
DTSTAMP:20260424T122953
CREATED:20240916T185228Z
LAST-MODIFIED:20240916T185242Z
UID:52753-1726592400-1726596000@www.narodnimuzej.rs
SUMMARY:Стручно вођење „Француска и Србија - пријатељство на медаљама“
DESCRIPTION:Пријатељство Србије и Француске у Првом светском рату\, оставило је свој траг на медаљама\, посебним сведочанствима бурних историјских догађаја. \nПозивамо вас да посетите Народни музеј и на стручном вођењу кроз изложбу „Француска и Србија – пријатељство на медаљама” кроз које ће вас водити кустоскиње Дена Бабајић и Јана Матић сазнате више о историји испричаној рукама мајстора медаљара. \nУлаз је бесплатан. \n
URL:http://www.narodnimuzej.rs/dogadjaj/struchno-vo-ene-frantsuska-i-srbija-prijatelstvo-na-medalama/
LOCATION:Народни музеј Србије
CATEGORIES:Вођења
ATTACH;FMTTYPE=image/png:http://www.narodnimuzej.rs/wp-content/uploads/2024/09/nm_sajt_sept_feature13.png
END:VEVENT
END:VCALENDAR