BEGIN:VCALENDAR
VERSION:2.0
PRODID:-//Народни музеј - ECPv4.7.3//NONSGML v1.0//EN
CALSCALE:GREGORIAN
METHOD:PUBLISH
X-WR-CALNAME:Народни музеј
X-ORIGINAL-URL:http://www.narodnimuzej.rs
X-WR-CALDESC:Догађаји за Народни музеј
BEGIN:VEVENT
DTSTART;TZID=Europe/Belgrade:20251220T180000
DTEND;TZID=Europe/Belgrade:20251220T190000
DTSTAMP:20260425T215757
CREATED:20251129T141450Z
LAST-MODIFIED:20251129T162617Z
UID:56520-1766253600-1766257200@www.narodnimuzej.rs
SUMMARY:Стручно вођење „Велики празници"
DESCRIPTION:Збирка средњовековног наслеђа и Галерија српског сликарства 18. и 19. века Народног музеја Србије представљају развој ликовне уметности – од италокритских икона до приказа светитеља српских сликара. Стручно вођење „Велики празници“\, које ће бити одржано 20. децембра у 18 часова\, омогућиће посетиоцима да\, кроз две целине сталне поставке\, сагледају начине на које су се велики празници визуелно обликовали и тумачили кроз историју.\nВођење је бесплатно за све посетиоце\, а претходне пријаве нису потребне. \n
URL:http://www.narodnimuzej.rs/dogadjaj/struchno-vo-ene-veliki-praznitsi/
LOCATION:Народни музеј Србије
CATEGORIES:Вођења
END:VEVENT
END:VCALENDAR