BEGIN:VCALENDAR
VERSION:2.0
PRODID:-//Народни музеј - ECPv4.7.3//NONSGML v1.0//EN
CALSCALE:GREGORIAN
METHOD:PUBLISH
X-WR-CALNAME:Народни музеј
X-ORIGINAL-URL:http://www.narodnimuzej.rs
X-WR-CALDESC:Догађаји за Народни музеј
BEGIN:VEVENT
DTSTART;TZID=Europe/Belgrade:20230708T180000
DTEND;TZID=Europe/Belgrade:20230708T190000
DTSTAMP:20260419T192544
CREATED:20230628T185434Z
LAST-MODIFIED:20230628T192623Z
UID:49612-1688839200-1688842800@www.narodnimuzej.rs
SUMMARY:Стручно вођење „Од ноћног осветљења до самосталне реалности светлости“
DESCRIPTION:Развој светлости у српској уметности можемо пратити готово од романтизма\, у ноћном осветљењу Ђуре Јакшића\, преко симболичне светлости историјских композиција Ђорђа Крстића и Стевана Алексића. Паја Јовановић је за потребе Светске изложбе 1900. године расвелтио своју палету\, а са појавом импресионизма у Србији\, светлост постаје самостални ентитет сликарства. На стручном вођењу \,\,Од ноћног осветљења до самосталне реалности светлости“ сараднице Анђеле Петровић имаћете прилику да чујете зашто је светлост толико важна у сликарству\, какву све улогу може имати и зашто је било неопходно да се светлост осамостали. Видимо се у Народном музеју Србије 8. јула у 18 часова! \n
URL:http://www.narodnimuzej.rs/dogadjaj/strucno-vodjenje-od-nocnog-osvetljenja-do-samostalne-realnosti-svetlosti/
LOCATION:Народни музеј Србије
CATEGORIES:Вођења
ATTACH;FMTTYPE=image/jpeg:http://www.narodnimuzej.rs/wp-content/uploads/2023/06/Featured-9.jpg
END:VEVENT
END:VCALENDAR