BEGIN:VCALENDAR
VERSION:2.0
PRODID:-//Народни музеј - ECPv4.7.3//NONSGML v1.0//EN
CALSCALE:GREGORIAN
METHOD:PUBLISH
X-WR-CALNAME:Народни музеј
X-ORIGINAL-URL:http://www.narodnimuzej.rs
X-WR-CALDESC:Догађаји за Народни музеј
BEGIN:VEVENT
DTSTART;TZID=Europe/Belgrade:20230729T180000
DTEND;TZID=Europe/Belgrade:20230729T190000
DTSTAMP:20260421T111444
CREATED:20230628T192856Z
LAST-MODIFIED:20230628T194039Z
UID:49599-1690653600-1690657200@www.narodnimuzej.rs
SUMMARY:Стручно вођење „Оријентална божанства на простору данашње Србије“
DESCRIPTION:Прича о божанствима са истока\, врховном божанству и посреднику између богова\, великој мајци и богу ратнику – како су дошли до нас и какве промене су претрпели на свом вишевековном путовању? Шта их разликује\, а шта спаја са западним културама и како су се асимиловали у цивилизацију другачију од њихове? Дођите да откријемо заједно\, 28. јула у 18 часова. Кроз стручно вођење \,\,Оријентална божанства на простору данашње Србије“ провешће вас сарадница музеја\, Ана Кадовић. \n
URL:http://www.narodnimuzej.rs/dogadjaj/strucno-vodjenje-orijentalna-bozanstva-na-prostoru-danasnje-srbije/
LOCATION:Народни музеј Србије
CATEGORIES:Вођења
ATTACH;FMTTYPE=image/jpeg:http://www.narodnimuzej.rs/wp-content/uploads/2023/06/Featured-11.jpg
END:VEVENT
END:VCALENDAR