BEGIN:VCALENDAR
VERSION:2.0
PRODID:-//Народни музеј - ECPv4.7.3//NONSGML v1.0//EN
CALSCALE:GREGORIAN
METHOD:PUBLISH
X-WR-CALNAME:Народни музеј
X-ORIGINAL-URL:http://www.narodnimuzej.rs
X-WR-CALDESC:Догађаји за Народни музеј
BEGIN:VEVENT
DTSTART;TZID=Europe/Belgrade:20230715T180000
DTEND;TZID=Europe/Belgrade:20230715T190000
DTSTAMP:20260419T203512
CREATED:20230628T191106Z
LAST-MODIFIED:20230628T193907Z
UID:49615-1689444000-1689447600@www.narodnimuzej.rs
SUMMARY:Стручно вођење „Прича у слици и прича о слици“
DESCRIPTION:Шта нам поручују уметничка дела\, а шта њихови аутори? Како су настала\, чему су служила и шта су представљала? Кроз одабир десет дела са наше сталне поставке сазнаћећте шта је све потребно да би се о слици и кроз слику испричала занимљива прича о уметности. Кроз стручно вођење \,\,Прича у слици и прича о слици“ провешће вас сарадник Народног музеја Србије Јован Ђорђевић. Видимо се 15. јула у 18 часова. \n
URL:http://www.narodnimuzej.rs/dogadjaj/strucno-vodjenje-prica-u-slici-i-prica-o-slici/
LOCATION:Народни музеј Србије
CATEGORIES:Вођења
ATTACH;FMTTYPE=image/jpeg:http://www.narodnimuzej.rs/wp-content/uploads/2023/06/Featured-10.jpg
END:VEVENT
END:VCALENDAR