BEGIN:VCALENDAR
VERSION:2.0
PRODID:-//Народни музеј - ECPv4.7.3//NONSGML v1.0//EN
CALSCALE:GREGORIAN
METHOD:PUBLISH
X-WR-CALNAME:Народни музеј
X-ORIGINAL-URL:http://www.narodnimuzej.rs
X-WR-CALDESC:Догађаји за Народни музеј
BEGIN:VEVENT
DTSTART;TZID=Europe/Belgrade:20181207T100000
DTEND;TZID=Europe/Belgrade:20181207T100000
DTSTAMP:20260423T101924
CREATED:20191009T141716Z
LAST-MODIFIED:20191009T141716Z
UID:38676-1544176800-1544176800@www.narodnimuzej.rs
SUMMARY:Мирослављево јеванђеље 
DESCRIPTION:Најстарији сачувани српски илустровани ћирилични рукопис\, Мирослављево јеванђеље\, биће изложено у Народном музеју сваке суботе у децембру\, као и у петак 7. децембра. \nЈеванђеље је настало осамдесетих година 12. века. Писано на пергаменту\, састоји се од 181 листа у кожном повезу. Запис на последњем листу јеванђеља сведочида га је поручио хумски кнез Мирослав\, брат великог жупана Стефана Немање. Сматра се да је дијак Глигорије\, чији се потпис налази на последњем исписаном листу\, писар или минијатуриста јеванђеља. \nМирослављево јеванђеље се чува у Народном музеју у Београду\, a jедан од листова је у Националној библиотеци у Санкт Петербургу. \nЈеванђеље је писано на старословенском језику\, српскe редакцијe и рашке ортографије. По свом саставу је јеванђелистар – богослужбена књига која има делове четири јеванђеља. Текст Јеванђеља је писан пером у две колумне\, мрком и црном бојом\, а већина наслова црвеном. Књига садржи 296 минијатура цртаних пером\, а затим бојених четкицом и украшених златом. Кожни повез Јеванђеља није првобитан\, већ је вероватно из XIV века\, а претпоставља се да је преузет са неког другог рукописа. \nЈеванђеље је 1979. године проглашено за културно добро од изузетног значаја\, а у јуну 2005. године\, Мирослављево јеванђеље је уписано на листу УНЕСКАПамћење света (Memory of the World). Народна библиотека Србије која је матична установа за заштиту старе и ретке књиге\, прописала је да Мирослављево јеванђеље\, може бити излагано само десет дана током једне године. \n
URL:http://www.narodnimuzej.rs/dogadjaj/miroslavlevo-jevan-ele/
LOCATION:Народни музеј Србије
CATEGORIES:Изложбе
END:VEVENT
END:VCALENDAR