BEGIN:VCALENDAR
VERSION:2.0
PRODID:-//Народни музеј - ECPv4.7.3//NONSGML v1.0//EN
CALSCALE:GREGORIAN
METHOD:PUBLISH
X-WR-CALNAME:Народни музеј
X-ORIGINAL-URL:http://www.narodnimuzej.rs
X-WR-CALDESC:Догађаји за Народни музеј
BEGIN:VEVENT
DTSTART;TZID=Europe/Belgrade:20181213T180000
DTEND;TZID=Europe/Belgrade:20181213T180000
DTSTAMP:20260423T101807
CREATED:20191009T140338Z
LAST-MODIFIED:20191009T140338Z
UID:38664-1544724000-1544724000@www.narodnimuzej.rs
SUMMARY:Боемски немири у сликама Јована Бијелића
DESCRIPTION:Тематско вођење: Боемски немири у сликама Јована Бијелића. Нове аквизиције Народног музеја у Београду \nМузејски саветник\, Гордана Станишић\, говориће о Бијелићевим сликама у оквиру сталне поставке Народног музеја уз јединствену прилику да се посетиоцима представе и седам уметникових слика које су однедавно уврштене у колекцију Народног музеја у Београду \n
URL:http://www.narodnimuzej.rs/dogadjaj/boemski-nemiri-u-slikama-jovana-bijeli-a/
LOCATION:Народни музеј Србије
CATEGORIES:Вођења
END:VEVENT
END:VCALENDAR