BEGIN:VCALENDAR
VERSION:2.0
PRODID:-//Народни музеј - ECPv4.7.3//NONSGML v1.0//EN
CALSCALE:GREGORIAN
METHOD:PUBLISH
X-WR-CALNAME:Народни музеј
X-ORIGINAL-URL:http://www.narodnimuzej.rs
X-WR-CALDESC:Догађаји за Народни музеј
BEGIN:VEVENT
DTSTART;TZID=Europe/Belgrade:20250807T120000
DTEND;TZID=Europe/Belgrade:20250807T130000
DTSTAMP:20260421T093634
CREATED:20250801T141014Z
LAST-MODIFIED:20250802T084148Z
UID:55677-1754568000-1754571600@www.narodnimuzej.rs
SUMMARY:Циклус разговора - Будућност СМНРП
DESCRIPTION:Стална поставка Спомен-музеја Надежде и Растка Петровића неће бити стална. Уз уметничке и кустоске интервенције у простору\, кроз разговоре са публиком са циљем истраживања потреба и знатижеље појединаца који својим присуством оплемењују живот музеја\, желимо да промене музејских предмета на поставци\, тематске програме у виду разговора\, предавања\, радионица\, филмских\, књижевних и музичких вечери осмислимо на основу интересовања публике. Дођите да разговарамо\, пренесите нам своје утиске\, коментаре и сугестије. Хајде да заједно осмислимо Спомен-музеј у блиској будућности. Програм је бесплатан за све посетиоце\, а претходне пријаве нису потребне. \n  \n
URL:http://www.narodnimuzej.rs/dogadjaj/tsiklus-razgovora-budu-nost-smnrp/2025-08-07/
CATEGORIES:Разговор
ATTACH;FMTTYPE=image/jpeg:http://www.narodnimuzej.rs/wp-content/uploads/2025/08/1000x1000_Buducnost_SMNRP.jpg
END:VEVENT
BEGIN:VEVENT
DTSTART;TZID=Europe/Belgrade:20250807T130000
DTEND;TZID=Europe/Belgrade:20250807T140000
DTSTAMP:20260421T093635
CREATED:20250801T152937Z
LAST-MODIFIED:20250801T152937Z
UID:55031-1754571600-1754575200@www.narodnimuzej.rs
SUMMARY:Стручно вођење - Мирослављево јеванђеље
DESCRIPTION:Мирослављево јеванђеље је наш најстарији сачувани рукопис\, и веома је важан сведок прошлости и наше писмености. У Народном музеју Србије у 13ч заинтересовани посетиоци моћи ће да сазнају појединости о Јеванђељу\, његовом историјском контексту и зашто је важан\, а затим ће моћи и да га виде. Говориће кустос едукатор Марина Пејовић. \n  \n
URL:http://www.narodnimuzej.rs/dogadjaj/struchno-vo-ene-miroslavlevo-jevan-ele/
LOCATION:Народни музеј Србије
ATTACH;FMTTYPE=image/png:http://www.narodnimuzej.rs/wp-content/uploads/2025/06/nm_sajt_jun_feature23-2.png
END:VEVENT
BEGIN:VEVENT
DTSTART;TZID=Europe/Belgrade:20250807T150000
DTEND;TZID=Europe/Belgrade:20250807T160000
DTSTAMP:20260421T093635
CREATED:20250802T040905Z
LAST-MODIFIED:20250802T041045Z
UID:55656-1754578800-1754582400@www.narodnimuzej.rs
SUMMARY:Интерактивно вођење за децу   „Слова и животиње из Мирослављевог јеванђеља"
DESCRIPTION:Људи\, лавови\, птице\, али и бића каква не постоје у природи су се као илустрације уселили на листове Мирослављевог јеванђеља\, веома старе и важне књиге. Открићемо шта је то у књизи исписано\, где је она све путовала и на који начин се данас чува у Народном музеју Србије. Интерактивно вођење за децу \,\,Слова и животиње из Мирослављевог јеванђеља“ намењено је деци предшколског и раног школског узраста. Децу ће 7. августа у 15 часова у шетњу кроз музеј повести музејски едукатор Дена Бабајић. \n
URL:http://www.narodnimuzej.rs/dogadjaj/interaktivno-vo-ene-za-detsu-slova-i-zhivotine-iz-miroslavlevog-jevan-ela-3/
CATEGORIES:Радионица
ATTACH;FMTTYPE=image/png:http://www.narodnimuzej.rs/wp-content/uploads/2025/06/nm_sajt_jun_feature23-2.png
END:VEVENT
BEGIN:VEVENT
DTSTART;TZID=Europe/Belgrade:20250807T180000
DTEND;TZID=Europe/Belgrade:20250807T190000
DTSTAMP:20260421T093636
CREATED:20250801T153443Z
LAST-MODIFIED:20250802T040406Z
UID:55042-1754589600-1754593200@www.narodnimuzej.rs
SUMMARY:Разговори са конзерватором „Стари украси у новом сјају"
DESCRIPTION:У четвртак 17. јула с почетком у 18 часова конзерваторка Катарина Милосављевић представиће нам процес који је био потребан да гвоздене аплике или украси на римским двоколицама добију свој потпуни сјај. Посебан пут који је потребан да један педмет добије свој некадашњи изглед и да у потпусности откријемо његову намену највише су задужени конзерватори а кроз њихово путовање овог пута причаћемо о римским двоколицама и посебности који је овај подухват донео. Програм је бесплатан за све посетиоце\, а претходне пријаве нису потребне. \n
URL:http://www.narodnimuzej.rs/dogadjaj/razgovori-sa-konzervatorom-stari-ukrasi-u-novom-sjaju-2/
CATEGORIES:Разговор
ATTACH;FMTTYPE=image/png:http://www.narodnimuzej.rs/wp-content/uploads/2025/08/nm_sajt_jul_feature9-1024x1024-10.png
END:VEVENT
END:VCALENDAR