BEGIN:VCALENDAR
VERSION:2.0
PRODID:-//Народни музеј - ECPv4.7.3//NONSGML v1.0//EN
CALSCALE:GREGORIAN
METHOD:PUBLISH
X-WR-CALNAME:Народни музеј
X-ORIGINAL-URL:http://www.narodnimuzej.rs
X-WR-CALDESC:Догађаји за Народни музеј
BEGIN:VEVENT
DTSTART;TZID=Europe/Belgrade:20251221T120000
DTEND;TZID=Europe/Belgrade:20251221T130000
DTSTAMP:20260425T185930
CREATED:20251129T160059Z
LAST-MODIFIED:20251129T162549Z
UID:56522-1766318400-1766322000@www.narodnimuzej.rs
SUMMARY:Концерт „МШ Мокрањац”
DESCRIPTION:
URL:http://www.narodnimuzej.rs/dogadjaj/kontsert-msh-mokranats/
LOCATION:Народни музеј Србије
CATEGORIES:Концерт
END:VEVENT
BEGIN:VEVENT
DTSTART;TZID=Europe/Belgrade:20251221T150000
DTEND;TZID=Europe/Belgrade:20251221T160000
DTSTAMP:20260425T185930
CREATED:20251129T162852Z
LAST-MODIFIED:20251129T162852Z
UID:56537-1766329200-1766332800@www.narodnimuzej.rs
SUMMARY:Археолошка слагалица
DESCRIPTION:Да ли сте икада желели да саставите делове прошлости и вратите им стари сјај? Позивамо вас на радионицу где ћете\, заједно са младим археолозима\, открити тајне старих посуда и научити како им конзервацијом можемо подарити нови живот! На радионици ћете се опробати у рестаурацији реплика археолошких посуда из Збирке бронзаног доба – лепићете фрагменте\, доцртавати недостајуће орнаменте и бојити их како бисте их поново оживели! Такође\, можете донети и сломљене керамичке предмете од куће које ћемо заједно оживети! Радионица је намењена деци узраста од 10 до 14 година\, а пријављивање је обавезно на мејл адресу: radionice@narodnimuzej.rs \nУзраст: 10-14 година \n  \n  \n
URL:http://www.narodnimuzej.rs/dogadjaj/arheoloshka-slagalitsa/
LOCATION:Народни музеј Србије
CATEGORIES:Радионица
END:VEVENT
END:VCALENDAR