BEGIN:VCALENDAR
VERSION:2.0
PRODID:-//Народни музеј - ECPv4.7.3//NONSGML v1.0//EN
CALSCALE:GREGORIAN
METHOD:PUBLISH
X-WR-CALNAME:Народни музеј
X-ORIGINAL-URL:http://www.narodnimuzej.rs
X-WR-CALDESC:Догађаји за Народни музеј
BEGIN:VEVENT
DTSTART;TZID=Europe/Belgrade:20260109T110000
DTEND;TZID=Europe/Belgrade:20260109T120000
DTSTAMP:20260424T113121
CREATED:20251227T125032Z
LAST-MODIFIED:20251227T125032Z
UID:56591-1767956400-1767960000@www.narodnimuzej.rs
SUMMARY:Распуст у музеју: Изложба загонетних илустрација
DESCRIPTION:\nДеца ће заједно са кустосом читати кратке народне умотворине и разговарати о њиховом значењу. Сваки учесник ће одабрати једну умотворину и илустровати је\, не откривајући другима о којој је реч. Илустрације постају још загонетније када сваки учесник добје тајне речи које не сме приказати у свом раду. На крају ће бити организована мини-изложба\, након које следи игра погађања. Пријаве су обавезне на radionice@narodnimuzej.rs. \n
URL:http://www.narodnimuzej.rs/dogadjaj/raspust-u-muzeju-izlozhba-zagonetnih-ilustratsija/
LOCATION:Музеј Вука и Доситеја
CATEGORIES:Радионица
END:VEVENT
BEGIN:VEVENT
DTSTART;TZID=Europe/Belgrade:20260109T110000
DTEND;TZID=Europe/Belgrade:20260109T120000
DTSTAMP:20260424T113122
CREATED:20251227T125219Z
LAST-MODIFIED:20251227T125322Z
UID:56593-1767956400-1767960000@www.narodnimuzej.rs
SUMMARY:Радионица „Слава какву ја познајем”
DESCRIPTION:Данас у Спомен музеју Надежде и Растка Петровића обележавамо њихову славу\, Светог Стефана. Тим поводом\, дружимо се на радионици на којој разговарамо о обележјима славе и појмовима који су повезани са славом\, делимо своје личне доживљаје породичне славе\, а у креативном делу радионице цртамо и правимо своје књижице о слави. Пријављивање је обавезно на мејл адресу: radionice@narodnimuzej.rs \n
URL:http://www.narodnimuzej.rs/dogadjaj/radionitsa-slava-kakvu-ja-poznajem/
LOCATION:Спомен-музеј Надежде и Растка Петровића
CATEGORIES:Радионица
END:VEVENT
END:VCALENDAR