BEGIN:VCALENDAR
VERSION:2.0
PRODID:-//Народни музеј - ECPv4.7.3//NONSGML v1.0//EN
CALSCALE:GREGORIAN
METHOD:PUBLISH
X-WR-CALNAME:Народни музеј
X-ORIGINAL-URL:http://www.narodnimuzej.rs
X-WR-CALDESC:Догађаји за Народни музеј
BEGIN:VEVENT
DTSTART;TZID=Europe/Belgrade:20260115T180000
DTEND;TZID=Europe/Belgrade:20260115T190000
DTSTAMP:20260424T022438
CREATED:20251227T144519Z
LAST-MODIFIED:20251227T144519Z
UID:56631-1768500000-1768503600@www.narodnimuzej.rs
SUMMARY:Стручно вођење „Древна божанства на простору данашње Србије”
DESCRIPTION:Прича о божанствима са истока\, врховном божанству и посреднику између богова\, великој мајци и богу ратнику – како су дошли до нас и какве промене су претрпели на свом вишевековном путовању? Шта их разликује\, а шта спаја са западним културама и како су се асимиловали у цивилизацију другачију од њихове? Дођите да откријемо заједно\, 15 јануара у 18 часова. Кроз стручно вођење \,\,Древна божанства на простору данашње Србије“ провешће вас сарадница музеја\, Ана Кадовић. Програм је бесплатан за све посетиоце\, а претходне пријаве нису потребне. \n
URL:http://www.narodnimuzej.rs/dogadjaj/struchno-vo-ene-drevna-bozhanstva-na-prostoru-danashne-srbije/
LOCATION:Народни музеј Србије
CATEGORIES:Вођења
END:VEVENT
END:VCALENDAR