BEGIN:VCALENDAR
VERSION:2.0
PRODID:-//Народни музеј - ECPv4.7.3//NONSGML v1.0//EN
CALSCALE:GREGORIAN
METHOD:PUBLISH
X-WR-CALNAME:Народни музеј
X-ORIGINAL-URL:http://www.narodnimuzej.rs
X-WR-CALDESC:Догађаји за Народни музеј
BEGIN:VEVENT
DTSTART;TZID=Europe/Belgrade:20260122T180000
DTEND;TZID=Europe/Belgrade:20260122T190000
DTSTAMP:20260425T111917
CREATED:20251227T143524Z
LAST-MODIFIED:20251227T143524Z
UID:56619-1769104800-1769108400@www.narodnimuzej.rs
SUMMARY:Разговор „Тићми каже - Предмети су важни.”
DESCRIPTION:Разговор и дружење са писцем Стефаном Тићмијем\, инспирисано књигом Тата каже гамбит\, позива публику на размену прича. Учесници су позвани да понесу по један предмет из свог дома који може да се посматра као шаховска фигура чији потез говори о личним причама. Кроз разговор и игру асоцијација\, предмети постају повод за приповедање о сећањима\, односима и животним стратегијама\, уз госта изненађења који ће допринети развоју заплета. \n
URL:http://www.narodnimuzej.rs/dogadjaj/razgovor-ti-mi-kazhe-predmeti-su-vazhni/
LOCATION:Спомен-музеј Надежде и Растка Петровића
CATEGORIES:Разговор
END:VEVENT
BEGIN:VEVENT
DTSTART;TZID=Europe/Belgrade:20260122T180000
DTEND;TZID=Europe/Belgrade:20260122T190000
DTSTAMP:20260425T111918
CREATED:20251227T143652Z
LAST-MODIFIED:20251227T143652Z
UID:56621-1769104800-1769108400@www.narodnimuzej.rs
SUMMARY:Концерт „Омаж Александру Вујићу”
DESCRIPTION:Поводом осамдесет година од рођења Александра Вујића\, великог националног композитора и професора\, организује се концерт у Народном музеју Србије. Програм је бесплатан за све посетиоце. \n
URL:http://www.narodnimuzej.rs/dogadjaj/kontsert-omazh-aleksandru-vuji-u/
LOCATION:Народни музеј Србије
CATEGORIES:Концерт
END:VEVENT
END:VCALENDAR