BEGIN:VCALENDAR
VERSION:2.0
PRODID:-//Народни музеј - ECPv4.7.3//NONSGML v1.0//EN
CALSCALE:GREGORIAN
METHOD:PUBLISH
X-WR-CALNAME:Народни музеј
X-ORIGINAL-URL:http://www.narodnimuzej.rs
X-WR-CALDESC:Догађаји за Народни музеј
BEGIN:VEVENT
DTSTART;TZID=Europe/Belgrade:20260124T130000
DTEND;TZID=Europe/Belgrade:20260124T140000
DTSTAMP:20260423T082941
CREATED:20251227T133035Z
LAST-MODIFIED:20251227T162410Z
UID:56604-1769259600-1769263200@www.narodnimuzej.rs
SUMMARY:Радионица „Пут слике - од стварности до геометрије"
DESCRIPTION:Радионица „Пут слике – од стварности до геометрије“\, упознаје децу са кључним променама у европском сликарству 19. и 20. века. Учесници истражују како се мотиви мењају од препознатљивих облика ка апстрактним и геометријским решењима\, правећи јединствену уметничку књигу – хармонику.\nРадионица је предвиђена за узраст од 10 до 14 година\, а пријављивање је обавезно на radionice@narodnimuzej.rs \n
URL:http://www.narodnimuzej.rs/dogadjaj/radionitsa-put-slike-od-stvarnosti-do-geometrije/
LOCATION:Народни музеј Србије
CATEGORIES:Радионица
END:VEVENT
BEGIN:VEVENT
DTSTART;TZID=Europe/Belgrade:20260124T180000
DTEND;TZID=Europe/Belgrade:20260124T190000
DTSTAMP:20260423T082942
CREATED:20251227T163029Z
LAST-MODIFIED:20260121T142525Z
UID:56637-1769277600-1769281200@www.narodnimuzej.rs
SUMMARY:Трагови светлости: Срби у огледалу Ермитажа
DESCRIPTION:У оквиру Дана Ермитажа у Народном музеју у току је изложба „Трагови светлости: Срби у огледалу Ермитажа“ на којој је представљено 9 рестаураторски приређених копија портрета руских војсковођа и државника српског порекла из Државног музеја Ермитаж у Санкт Петербургу. Који је значај ових личности које су допринеле историји и култури Руског царства 19. века и на који начин представљају спону између српске и руске историје и културе говориће проф. др Алексеј Тимофејев\, историчар. Програм је бесплатан за све посетиоце\, а претходне пријаве нису потребне. \n
URL:http://www.narodnimuzej.rs/dogadjaj/tragovi-svetlosti-srbi-u-ogledalu-ermitazha/
LOCATION:Народни музеј Србије
CATEGORIES:Предавања
END:VEVENT
END:VCALENDAR