BEGIN:VCALENDAR
VERSION:2.0
PRODID:-//Народни музеј - ECPv4.7.3//NONSGML v1.0//EN
CALSCALE:GREGORIAN
METHOD:PUBLISH
X-WR-CALNAME:Народни музеј
X-ORIGINAL-URL:http://www.narodnimuzej.rs
X-WR-CALDESC:Догађаји за Народни музеј
BEGIN:VEVENT
DTSTART;TZID=Europe/Belgrade:20260125T120000
DTEND;TZID=Europe/Belgrade:20260125T130000
DTSTAMP:20260423T063407
CREATED:20251227T143022Z
LAST-MODIFIED:20251227T144626Z
UID:56615-1769342400-1769346000@www.narodnimuzej.rs
SUMMARY:Концерт „Mezzo-giorno“
DESCRIPTION:На концерту у атријуму музеја биће изведена четири циклуса песама за мецосопран и клавир\, међу којима дела аутора Роберта Шумана\, Ђоакина Росинија\, Мануела де Фаља и Хавијера Монтсалвађа. \nПрограм је бесплатан за све посетиоце\, а претходне пријаве нису потребне. \n
URL:http://www.narodnimuzej.rs/dogadjaj/kontsert-mezzo-giorno/
LOCATION:Народни музеј Србије
CATEGORIES:Концерт
END:VEVENT
END:VCALENDAR