BEGIN:VCALENDAR
VERSION:2.0
PRODID:-//Народни музеј - ECPv4.7.3//NONSGML v1.0//EN
CALSCALE:GREGORIAN
METHOD:PUBLISH
X-WR-CALNAME:Народни музеј
X-ORIGINAL-URL:http://www.narodnimuzej.rs
X-WR-CALDESC:Догађаји за Народни музеј
BEGIN:VEVENT
DTSTART;TZID=Europe/Belgrade:20260131T180000
DTEND;TZID=Europe/Belgrade:20260131T190000
DTSTAMP:20260422T194140
CREATED:20251227T134422Z
LAST-MODIFIED:20251227T163149Z
UID:56608-1769882400-1769886000@www.narodnimuzej.rs
SUMMARY:Завири у причу: какав си херој?
DESCRIPTION:Кроз наративну игру Какав си херој? учесници се уводе у моралне дилеме различитих епоха и култура\, у чијем је средишту појам части. Полазећи од испричаног контекста\, уживљавају се у хипотетичке ситуације и проговарају гласом главних актера – из некадашње и савремене перспективе. Ситуације ће учесницима бити познате\, али не потпуно препознатљиве јер су приказане из неочекиваних углова познатих књижевних текстова. Расплет наративних ситуација откриће се кроз читање одломака из дела домаће и светске књижевности\, одабраних тако да помажу бољем разумевању прича са сталне поставке музеја. Пријаве су обавезне на: radionice@narodnimuzej.rs.\nМузеј Вука и Доситеја у фебруару припрема још књижевних игара под заједничким називом Завири у причу. Оне ће заједно са музиком и ликовним изразом отварати просторе за нова читања познатих књижевних дела. \nНамењено публици од 18 до 30 година. \n  \n  \n
URL:http://www.narodnimuzej.rs/dogadjaj/zaviri-u-prichu-kakav-si-heroj/
LOCATION:Музеј Вука и Доситеја
CATEGORIES:Остало
END:VEVENT
BEGIN:VEVENT
DTSTART;TZID=Europe/Belgrade:20260131T180000
DTEND;TZID=Europe/Belgrade:20260131T190000
DTSTAMP:20260422T194141
CREATED:20251227T135235Z
LAST-MODIFIED:20260121T142607Z
UID:56611-1769882400-1769886000@www.narodnimuzej.rs
SUMMARY:Трагови светлости: Срби у огледалу Ермитажа
DESCRIPTION:У оквиру Дана Ермитажа у Народном музеју у току је изложба „Трагови светлости: Срби у огледалу Ермитажа“ на којој је представљено 9 рестаураторски приређених копија портрета руских војсковођа и државника српског порекла из Државног музеја Ермитаж у Санкт Петербургу.О значају портретне уметности говориће проф. др Владимир Симић\, историчар уметности. Програм је бесплатан за све посетиоце\, а претходне пријаве нису потребне. \n
URL:http://www.narodnimuzej.rs/dogadjaj/tragovi-svetlosti-srbi-u-ogledalu-ermitazha-2/
LOCATION:Народни музеј Србије
CATEGORIES:Изложбе
END:VEVENT
END:VCALENDAR