BEGIN:VCALENDAR
VERSION:2.0
PRODID:-//Народни музеј - ECPv4.7.3//NONSGML v1.0//EN
CALSCALE:GREGORIAN
METHOD:PUBLISH
X-WR-CALNAME:Народни музеј
X-ORIGINAL-URL:https://www.narodnimuzej.rs
X-WR-CALDESC:Догађаји за Народни музеј
BEGIN:VEVENT
DTSTART;TZID=Europe/Belgrade:20190427T160000
DTEND;TZID=Europe/Belgrade:20190427T160000
DTSTAMP:20260421T065004
CREATED:20191002T140742Z
LAST-MODIFIED:20191002T140742Z
UID:38174-1556380800-1556380800@www.narodnimuzej.rs
SUMMARY:100 година од рођења сликара Боже Илића
DESCRIPTION:У суботу 27. априла у 16 часова\, поводом 100. годишњице од рођења сликара Боже Илића\, чији је рад „Сондирање терена на Новом Београду“ у сталној поставци Народног музеја\, кустос Јасмина Новаковић ће одржати тематско вођење и разговор о аутору пред сликом. \n
URL:https://www.narodnimuzej.rs/dogadjaj/100-godina-od-ro-ena-slikara-bozhe-ili-a/
LOCATION:Народни музеј Србије
CATEGORIES:Вођења
END:VEVENT
END:VCALENDAR