BEGIN:VCALENDAR
VERSION:2.0
PRODID:-//Народни музеј - ECPv4.7.3//NONSGML v1.0//EN
CALSCALE:GREGORIAN
METHOD:PUBLISH
X-WR-CALNAME:Народни музеј
X-ORIGINAL-URL:https://www.narodnimuzej.rs
X-WR-CALDESC:Догађаји за Народни музеј
BEGIN:VEVENT
DTSTART;TZID=Europe/Belgrade:20190515T160000
DTEND;TZID=Europe/Belgrade:20190515T170000
DTSTAMP:20260421T064840
CREATED:20191002T125516Z
LAST-MODIFIED:20191002T125516Z
UID:38131-1557936000-1557939600@www.narodnimuzej.rs
SUMMARY:Археолошка поставка од праисторије до позне антике
DESCRIPTION:Тематско вођење кроз Археолошку поставку од праисторије до позне антике Народног музеја. \nПрограм се одвија у оквиру манифестације „Музеји за 10“ и бесплатан је за посетиоце. \n
URL:https://www.narodnimuzej.rs/dogadjaj/arheoloshka-postavka-od-praistorije-do-pozne-antike/
LOCATION:Народни музеј Србије
CATEGORIES:Вођења
END:VEVENT
END:VCALENDAR