BEGIN:VCALENDAR
VERSION:2.0
PRODID:-//Народни музеј - ECPv4.7.3//NONSGML v1.0//EN
CALSCALE:GREGORIAN
METHOD:PUBLISH
X-WR-CALNAME:Народни музеј
X-ORIGINAL-URL:https://www.narodnimuzej.rs
X-WR-CALDESC:Догађаји за Народни музеј
BEGIN:VEVENT
DTSTART;TZID=Europe/Belgrade:20220205T180000
DTEND;TZID=Europe/Belgrade:20220205T190000
DTSTAMP:20260423T120529
CREATED:20220131T120747Z
LAST-MODIFIED:20220131T121033Z
UID:46853-1644084000-1644087600@www.narodnimuzej.rs
SUMMARY:Ауторско вођење кроз изложбу „Зенитистима целога света. Из заоставштине Љубомира Мицића у Народном музеју у Београду“
DESCRIPTION:Публика ће имати прилику да у друштву једног од сaрадника на изложби Зенитистима целога света. Из заоставштине Љубомира Мицића у Народном музеју у Београду\, ауторке вођења и кустоскиње Народног музеја\, Драгане Љубеновић\, из прве руке сазна како је радити на постављању изложбе\, али и шта је био Зенит и како је био примљен у тадашњем друштву. \n
URL:https://www.narodnimuzej.rs/dogadjaj/autorsko-vodjenje-kroz-izlozbu-zenitistima-celoga-sveta-iz-zaostavstine-ljubomira-micica-u-narodnom-muzeju-u-beogradu-3/
LOCATION:Народни музеј Србије
CATEGORIES:Вођења
ATTACH;FMTTYPE=image/jpeg:https://www.narodnimuzej.rs/wp-content/uploads/2022/01/Featured-2-1.jpg
END:VEVENT
END:VCALENDAR