BEGIN:VCALENDAR
VERSION:2.0
PRODID:-//Народни музеј - ECPv4.7.3//NONSGML v1.0//EN
CALSCALE:GREGORIAN
METHOD:PUBLISH
X-WR-CALNAME:Народни музеј
X-ORIGINAL-URL:https://www.narodnimuzej.rs
X-WR-CALDESC:Догађаји за Народни музеј
BEGIN:VEVENT
DTSTART;TZID=Europe/Belgrade:20251230T080000
DTEND;TZID=Europe/Belgrade:20251230T170000
DTSTAMP:20260421T130731
CREATED:20251230T084036Z
LAST-MODIFIED:20251230T084036Z
UID:56640-1767081600-1767114000@www.narodnimuzej.rs
SUMMARY:БЕСПЛАТАН УЛАЗ ТОКОМ ПРАЗНИКА
DESCRIPTION:У сусрет празницима\, Народни музеј Србије отвара врата за све посетиоце – у суботу и недељу 3. и 4. јануара\, као и уторак 6. јануара улаз ће бити бесплатан за све. \nСубота 03. јануар – 12-20ч\nНедеља 04. јануар – 10-18ч\nПонедељак је нерадни дан\nУторак 06. јануар – 10-14ч \n
URL:https://www.narodnimuzej.rs/dogadjaj/besplatan-ulaz-tokom-praznika/
END:VEVENT
END:VCALENDAR