BEGIN:VCALENDAR
VERSION:2.0
PRODID:-//Народни музеј - ECPv4.7.3//NONSGML v1.0//EN
CALSCALE:GREGORIAN
METHOD:PUBLISH
X-WR-CALNAME:Народни музеј
X-ORIGINAL-URL:https://www.narodnimuzej.rs
X-WR-CALDESC:Догађаји за Народни музеј
BEGIN:VEVENT
DTSTART;TZID=Europe/Belgrade:20190427T160000
DTEND;TZID=Europe/Belgrade:20190427T160000
DTSTAMP:20260421T070429
CREATED:20191002T144832Z
LAST-MODIFIED:20191002T144832Z
UID:38202-1556380800-1556380800@www.narodnimuzej.rs
SUMMARY:Да ли сте спремни за барокни портрет?
DESCRIPTION:Узраст: од  10 до 14 година \nРадионица  Да ли сте спремни за барокни портрет? посвећена је гостујућој изложби италијанских уметника Бернинијева школа и римски барок. Ремек-дела из Палате Киђи у Аричи. Учесници ће имати прилику да се упознају са уметничко-културним периодом -барок\, а затим открију како су се у давном 17. веку уместо данашњих фотографија чувале успомене на драге особе . \nПријављивање учеснка узраста од  10 до 14  година обавезно је на адресу  d.babajic@narodnimuzej.rs \n
URL:https://www.narodnimuzej.rs/dogadjaj/da-li-ste-spremni-za-barokni-portret/
LOCATION:Народни музеј Србије
CATEGORIES:Радионица
END:VEVENT
END:VCALENDAR