BEGIN:VCALENDAR
VERSION:2.0
PRODID:-//Народни музеј - ECPv4.7.3//NONSGML v1.0//EN
CALSCALE:GREGORIAN
METHOD:PUBLISH
X-WR-CALNAME:Народни музеј
X-ORIGINAL-URL:https://www.narodnimuzej.rs
X-WR-CALDESC:Догађаји за Народни музеј
BEGIN:VEVENT
DTSTART;TZID=Europe/Belgrade:20190504T160000
DTEND;TZID=Europe/Belgrade:20190504T160000
DTSTAMP:20260421T070435
CREATED:20191002T135210Z
LAST-MODIFIED:20191002T135210Z
UID:38170-1556985600-1556985600@www.narodnimuzej.rs
SUMMARY:Хајмо да направимо уметничка копља и шарене стреле
DESCRIPTION:Током радионице Хајмо да направимо уметничка копља и шарене стреле правићемо по угледу на средњовековно свето оружје уметничка копља и стреле украшавајући их мотивима из тог раздобља.  \nПозивамо све хероје и хероине да дођу и направе себи најмаштовитије уметничко оружје против црно белог света. Пријављивање учесника узраста од 7 до 10 година обавезно је на адресу d.babajic@narodnimuzej.rs \n
URL:https://www.narodnimuzej.rs/dogadjaj/hajmo-da-napravimo-umetnichka-kopla-i-sharene-strele/
LOCATION:Народни музеј Србије
CATEGORIES:Радионица
END:VEVENT
END:VCALENDAR