BEGIN:VCALENDAR
VERSION:2.0
PRODID:-//Народни музеј - ECPv4.7.3//NONSGML v1.0//EN
CALSCALE:GREGORIAN
METHOD:PUBLISH
X-WR-CALNAME:Народни музеј
X-ORIGINAL-URL:https://www.narodnimuzej.rs
X-WR-CALDESC:Догађаји за Народни музеј
BEGIN:VEVENT
DTSTART;TZID=Europe/Belgrade:20190515T120000
DTEND;TZID=Europe/Belgrade:20190515T130000
DTSTAMP:20260421T083703
CREATED:20191002T130254Z
LAST-MODIFIED:20191002T130254Z
UID:38137-1557921600-1557925200@www.narodnimuzej.rs
SUMMARY:КОЛО 71: Моментум
DESCRIPTION:Концерт традиционалног певања и свирања поводом Дана ансамбла КОЛО \nАутор коцерта: др Сања Ранковић \nКонцерт припремили: др Сања Ранковић и Мирко Милановић \n  \nПрограм се одвија у оквиру манифестације „Музеји за 10“ и бесплатан је за посетиоце. \n
URL:https://www.narodnimuzej.rs/dogadjaj/kolo-71-momentum/
LOCATION:Народни музеј Србије
CATEGORIES:Музика
END:VEVENT
END:VCALENDAR