BEGIN:VCALENDAR
VERSION:2.0
PRODID:-//Народни музеј - ECPv4.7.3//NONSGML v1.0//EN
CALSCALE:GREGORIAN
METHOD:PUBLISH
X-WR-CALNAME:Народни музеј
X-ORIGINAL-URL:https://www.narodnimuzej.rs
X-WR-CALDESC:Догађаји за Народни музеј
BEGIN:VEVENT
DTSTART;TZID=Europe/Belgrade:20251214T120000
DTEND;TZID=Europe/Belgrade:20251214T130000
DTSTAMP:20260421T053628
CREATED:20251129T094058Z
LAST-MODIFIED:20251129T233308Z
UID:56510-1765713600-1765717200@www.narodnimuzej.rs
SUMMARY:Концерт „Артистикум”                                                .
DESCRIPTION:
URL:https://www.narodnimuzej.rs/dogadjaj/kontsert-artistikum-2/
LOCATION:Народни музеј Србије
CATEGORIES:Концерт
END:VEVENT
END:VCALENDAR