BEGIN:VCALENDAR
VERSION:2.0
PRODID:-//Народни музеј - ECPv4.7.3//NONSGML v1.0//EN
CALSCALE:GREGORIAN
METHOD:PUBLISH
X-WR-CALNAME:Народни музеј
X-ORIGINAL-URL:https://www.narodnimuzej.rs
X-WR-CALDESC:Догађаји за Народни музеј
BEGIN:VEVENT
DTSTART;TZID=Europe/Belgrade:20240609T120000
DTEND;TZID=Europe/Belgrade:20240609T130000
DTSTAMP:20260422T111838
CREATED:20240530T095947Z
LAST-MODIFIED:20240604T145200Z
UID:51942-1717934400-1717938000@www.narodnimuzej.rs
SUMMARY:ОТКАЗАНО Концерт „Sing and Dance“
DESCRIPTION:\n\nIBS Choir организује хуманитарни концерт намењен дечијим установама. Хор ће изводити разноврстан репертоар популарних песама у четири гласа\, под диригентском палицом Олге Бисерчић.\n\n\n\n
URL:https://www.narodnimuzej.rs/dogadjaj/kontsert-sing-and-dance/
LOCATION:Народни музеј Србије
CATEGORIES:Концерт
ATTACH;FMTTYPE=image/jpeg:https://www.narodnimuzej.rs/wp-content/uploads/2024/05/Featured-20.jpg
END:VEVENT
END:VCALENDAR