BEGIN:VCALENDAR
VERSION:2.0
PRODID:-//Народни музеј - ECPv4.7.3//NONSGML v1.0//EN
CALSCALE:GREGORIAN
METHOD:PUBLISH
X-WR-CALNAME:Народни музеј
X-ORIGINAL-URL:https://www.narodnimuzej.rs
X-WR-CALDESC:Догађаји за Народни музеј
BEGIN:VEVENT
DTSTART;TZID=Europe/Belgrade:20240608T180000
DTEND;TZID=Europe/Belgrade:20240608T200000
DTSTAMP:20260422T124355
CREATED:20240530T095811Z
LAST-MODIFIED:20240607T183542Z
UID:51940-1717869600-1717876800@www.narodnimuzej.rs
SUMMARY:Концерт „ВИС Ораси“
DESCRIPTION:Једини овдашњи књижевнички бенд је почео са радом 2002. године и до сада је кроз њега прошло преко 50 музичара. \nЗабележили су за три године постојања двадесетак наступа и један Live CD. професору РАСТКУ ЈЕВТОВИЋУ\, идејном творцу бенда и аутору скоро свих тадашњих аранжмана књижевничких песама\, приступа група тадашњих ђака Пете гимназије и Ораси почињу први пут да наступају као електрични рок састав. Од 2008. године Орасима почињу да се придружују и искуснији музичари. \n
URL:https://www.narodnimuzej.rs/dogadjaj/kontsert-vis-orasi/
LOCATION:Музеј Вука и Доситеја
CATEGORIES:Концерт
ATTACH;FMTTYPE=image/png:https://www.narodnimuzej.rs/wp-content/uploads/2024/05/nm_website_feature_4.png
END:VEVENT
END:VCALENDAR