BEGIN:VCALENDAR
VERSION:2.0
PRODID:-//Народни музеј - ECPv4.7.3//NONSGML v1.0//EN
CALSCALE:GREGORIAN
METHOD:PUBLISH
X-WR-CALNAME:Народни музеј
X-ORIGINAL-URL:https://www.narodnimuzej.rs
X-WR-CALDESC:Догађаји за Народни музеј
BEGIN:VEVENT
DTSTART;TZID=Europe/Belgrade:20251207T123000
DTEND;TZID=Europe/Belgrade:20251207T130000
DTSTAMP:20260421T043535
CREATED:20251129T071114Z
LAST-MODIFIED:20251129T071114Z
UID:56497-1765110600-1765112400@www.narodnimuzej.rs
SUMMARY:Концерт Вокалног ансамбла „Ксенија Петроградска"
DESCRIPTION:Вокални ансамбл „Ксенија Петроградска“ добио је одобрење господина Курта Сандера\, професора композиције и композитора савремене музике да на концерту у Народном музеју Србије изведе његова дела. Православна литургија композитора Курта Сандера биће по први пут изведена у Србији. Овај јединствени догађај представља прилику да домаћа публика упозна изузетно цењен опус композитора\, чија дела спајају дубоку литургијску аутентичност са савременим музичким изразом.  \n
URL:https://www.narodnimuzej.rs/dogadjaj/kontsert-vokalnog-ansambla-ksenija-petrogradska/
LOCATION:Народни музеј Србије
CATEGORIES:Концерт
END:VEVENT
END:VCALENDAR